BEGIN:VCALENDAR
VERSION:2.0
PRODID:-//hacksw/handcal//NONSGML v1.0//EN
CALSCALE:GREGORIAN
BEGIN:VEVENT
LOCATION:Hybrid: Systems Planning & Analysis - 4075 Wilson Blvd\, Suite 201\, Arlington\, VA\, 22203-2114 / Virtual - MS Teams
DTSTART:20260507T093000
DTEND:20260507T170000
SUMMARY:DISCORD Proposers Day
DESCRIPTION:PM: Eric Davis\n\nTo access the MS Teams details use the link below. Next you will need your confirmation code provided in your registration confirmation email\, the details will be displayed after that. \n\nhttps://creative.spa.com/darpa/sto/discord/pd/index.php?p=virtual\n\n
URL;VALUE=URI:https://creative.spa.com/darpa/sto/discord/pd/
DTSTAMP:20260420T141509
UID:69e66d2d4d400
TZID:America/New_York
END:VEVENT
END:VCALENDAR